BEGIN:VCALENDAR
VERSION:2.0
PRODID:-//Greenham Women Everywhere - ECPv6.15.16//NONSGML v1.0//EN
CALSCALE:GREGORIAN
METHOD:PUBLISH
X-WR-CALNAME:Greenham Women Everywhere
X-ORIGINAL-URL:https://greenhamwomeneverywhere.co.uk
X-WR-CALDESC:Events for Greenham Women Everywhere
REFRESH-INTERVAL;VALUE=DURATION:PT1H
X-Robots-Tag:noindex
X-PUBLISHED-TTL:PT1H
BEGIN:VTIMEZONE
TZID:Europe/London
BEGIN:DAYLIGHT
TZOFFSETFROM:+0000
TZOFFSETTO:+0100
TZNAME:BST
DTSTART:20200329T010000
END:DAYLIGHT
BEGIN:STANDARD
TZOFFSETFROM:+0100
TZOFFSETTO:+0000
TZNAME:GMT
DTSTART:20201025T010000
END:STANDARD
BEGIN:DAYLIGHT
TZOFFSETFROM:+0000
TZOFFSETTO:+0100
TZNAME:BST
DTSTART:20210328T010000
END:DAYLIGHT
BEGIN:STANDARD
TZOFFSETFROM:+0100
TZOFFSETTO:+0000
TZNAME:GMT
DTSTART:20211031T010000
END:STANDARD
BEGIN:DAYLIGHT
TZOFFSETFROM:+0000
TZOFFSETTO:+0100
TZNAME:BST
DTSTART:20220327T010000
END:DAYLIGHT
BEGIN:STANDARD
TZOFFSETFROM:+0100
TZOFFSETTO:+0000
TZNAME:GMT
DTSTART:20221030T010000
END:STANDARD
END:VTIMEZONE
BEGIN:VEVENT
DTSTART;VALUE=DATE:20210826
DTEND;VALUE=DATE:20210904
DTSTAMP:20260423T135957
CREATED:20210610T103655Z
LAST-MODIFIED:20210819T101133Z
UID:56461-1629936000-1630713599@greenhamwomeneverywhere.co.uk
SUMMARY:40th Anniversary March from Cardiff to Greenham
DESCRIPTION:The legendary Greenham Women’s Peace Camp has a big anniversary in 2021 – it will be 40 years since the first women marched from Wales to set up a peace camp outside RAF Greenham Common. \nOur anniversary celebrations will culminate in a momentous re-creation of this march\, leaving Cardiff on Thursday August 26th and arriving at Greenham on Friday September 3rd for a weekend of festivities! \nThere will also be a two day ride\, on Thursday September 2nd and Friday September 3rd. \nFind our Press Pack about the march and ride online here  \nSign up to join all or part of the march\, or to to join the two day ride\, here
URL:https://greenhamwomeneverywhere.co.uk/event/40th-anniversary-march-from-cardiff-to-greenham/
LOCATION:Various
CATEGORIES:March event
END:VEVENT
BEGIN:VEVENT
DTSTART;TZID=Europe/London:20210828T090000
DTEND;TZID=Europe/London:20210828T103000
DTSTAMP:20260423T135957
CREATED:20210816T182045Z
LAST-MODIFIED:20211013T160227Z
UID:58194-1630141200-1630146600@greenhamwomeneverywhere.co.uk
SUMMARY:Weaving the Web/inars: Pacific Women Say ‘NO!’ to Nuclear Colonialism
DESCRIPTION:Pacific Media Kit \nPacific Women Say ‘NO!’ to Nuclear Colonialism \n  \nWhen: \n28 August 2021 at 9am – 10.30am UK. \n  \nWebinar Description:  \nFive Pacific Women speak from their hearts. These women have personally experienced and witnessed the painful legacy of the colonialism that has been inflicted on their peoples for centuries. Emboldened by their inalienable cultures and enduring relationship with their ancestral homelands and oceans\, they have each spoken out\, becoming respected leaders amongst their peoples. And have dedicated their lives to reasserting their peoples’ inalienable sovereignty\, the removal of foreign military bases\, and a deep reassertion to caring for our Planet. These women represent their home nations of Fiji\, the Northern Marianas\, Guahan (Guam)\, the Marshall Islands\, and the Philippines. \n  \nSpeaker Info and Links:  \n  \nVanessa Griffen (Fiji): \n \nA Fijian academic and writer\, Vanessa Griffen has long campaigned against the use and proliferation of nuclear weapons. Whilst a student at the University of the South Pacific she joined the anti-nuclear movement ATOM (Against Testing on Mururoa) and helped form the Indigenous-led\, pan-oceanic Nuclear Free and Independent Pacific network. As a member of the International Campaign to Abolish Nuclear Weapons she presented at the United Nations negotiations on the Treaty on the Prohibition of Nuclear Weapons in 2017. \n  \nChailang Palacios (Northern Marianas): \n \nA Chamorro heritage custodian and teacher\, Chailang Palacios has long been a pioneer of reasserting Indigenous rights and banning all things nuclear. In the early 1980s she was active against Japanese nuclear waste dumping in the Marianas Trench\, just off her islands’ shores. In 1983 Chailang\, accompanied by Maori elder Titewhai Harawira\, toured Britain speaking to the wider peace movement. The stories they told shook all who heard them speak. Greenham women were horrified to learn that Pacific peoples had already suffered the nuclear devastation that they feared would develop in Europe. They formed the British-wide Women for a Nuclear Free and Independent Pacific network\, raising funds so that other Indigenous Pacific women could visit Greenham. \n  \nLisa Natividad (Guahan /Guam): \n \n Indigenous Chamoru woman\, Dr Lisa Natividad championed the exposure of human rights violations against her people and her homeland Guahan (Guam) which is a military colony of the United States. She speaks globally on the importance of decolonisation\, demilitarisation\, and the role of women in fostering safe and thriving communities. She has spoken most forcefully before the United Nations Fourth Committee\, Decolonisation Committee\, and the Permanent Forum on Indigenous Issues. A former member of the Guam Decolonisation Commission\, she joined the Council of the International Peace Bureau in March 2021.   \n  \nAbacca Anjain-Maddison (Republic of the Marshall Islands): \n \nA former Senator for Rongelap Atoll within the Republic of the Marshall Islands (RMI)\, Abacca Anjain-Maddison is Deputy Chief Secretary of the RMI government. Born on Rongelap Atoll before the 1954 US nuclear test on nearby Bikini Atoll\, she and her whole community were heavily contaminated by nuclear fallout. It wasn’t until three days later that the US military evacuated the Rongelapese. By that time they were suffering from radiation illnesses. They were relocated to tiny Ebeye island in Kwajalein Atoll already a US military base. It is this experience that Abacca spoke about when she delivered the closing address on behalf of the International Campaign to Abolish Nuclear Weapons (ICAN) following the United Nations’ adoption of the Treaty for the Prohibition of Nuclear Weapon in 2019. \n  \nCorazon Valdez-Fabros (Philippines): \n \n Lawyer\, Corazon Valdez-Fabros has at various times been the Chairperson of the Pacific Concerns Resource Centre (the Secretariat of the Indigenous-led Nuclear Free and Independent Pacific Movement); a Co-Vice President for the International Peace Bureau; and the Secretary General of the Nuclear Free Philippines Coalition which\, established in 1981\, consisted of a coalition of 129 national and sectoral organizations that\, through lobbying together\, incorporated a nuclear weapons free provision into their national Constitution\,   instigated a new military bases agreement with the USA which led to the removal of the US military bases in 1992\, and facilitated the clean-up of the former US bases. In 2000 she spoke at the International Meeting of the World Conference against A & H Bombs. She was Chairperson of Peace Women Partners when it convened its 2009\, 2016 and 2020 International Conference on Women\, Peace and Security. \n  \nHost and Organiser: Dr Zohl dé Ishtar   \nIrish-Australian Dr Zohl dé Ishtar lived at Greenham Common Women’s Peace Camp from 1983 to 1988 where she initiated the British-wide network Women Working for a Nuclear Free and Independent Pacific. She arrived at Greenham Common after riding her bicycle through Australia and Europe with the World Bike Ride for Peace\, Disarmament and a Nuclear Free Future during which she informed peace groups about the nuclear-colonialism of the Pacific. Having worked with Indigenous Australian and Pacific women since 1979\, she travelled widely in the Pacific in 1986-1987. From 1999 to 2019 she lived with Aboriginal Women Elders in Australia’s Great Sandy Desert helping them establish and manage their Kapululangu Aboriginal Women’s Law and Culture Centre. She is one of the 1000 Women Across the Globe which was nominated for the Nobel Peace Prize in 2005. She authored two books: Daughters of the Pacific (1994) and Holding Yawulyu: White Culture and Black Women’s Law (2005). \nContact: Dr Zohl dé Ishtar\, zohldeishtar@gmail.com \nTickets here  \nZoom link will be emailed to all ticket holders 30 mins before event begins.
URL:https://greenhamwomeneverywhere.co.uk/event/pacific-women-say-no-to-nuclear-colonialism/
LOCATION:Cornwall
CATEGORIES:External event,Weaving the web/inars
END:VEVENT
BEGIN:VEVENT
DTSTART;TZID=Europe/London:20210828T160000
DTEND;TZID=Europe/London:20210828T163000
DTSTAMP:20260423T135957
CREATED:20210823T141940Z
LAST-MODIFIED:20210823T142142Z
UID:58389-1630166400-1630168200@greenhamwomeneverywhere.co.uk
SUMMARY:Horfield Common welcome the Marchers
DESCRIPTION:
URL:https://greenhamwomeneverywhere.co.uk/event/horfield-common-welcome-the-marchers/
LOCATION:Cornwall
CATEGORIES:Bristol,March event
END:VEVENT
BEGIN:VEVENT
DTSTART;TZID=Europe/London:20210828T163000
DTEND;TZID=Europe/London:20210828T170000
DTSTAMP:20260423T135957
CREATED:20210823T142031Z
LAST-MODIFIED:20210823T142110Z
UID:58393-1630168200-1630170000@greenhamwomeneverywhere.co.uk
SUMMARY:Gloucester Road welcome the Marchers
DESCRIPTION:
URL:https://greenhamwomeneverywhere.co.uk/event/gloucester-road-welcome-the-marchers/
LOCATION:Flo Jo Fabrics\, 36B GLOUCESTER ROAD\, Bristol\, BS7 8AR\, United Kingdom
CATEGORIES:Bristol,March event
END:VEVENT
BEGIN:VEVENT
DTSTART;TZID=Europe/London:20210828T180000
DTEND;TZID=Europe/London:20210828T210000
DTSTAMP:20260423T135957
CREATED:20210813T122617Z
LAST-MODIFIED:20210813T145424Z
UID:58061-1630173600-1630184400@greenhamwomeneverywhere.co.uk
SUMMARY:Carry Greenham Home film and talk
DESCRIPTION:Maggie Parks – Greenham Woman and founder of the Women’s Centre\, Cornwall will introduce: \nRebecca Morden’s interview with Beeban Kidron and a screening of Carry Greenham Home.
URL:https://greenhamwomeneverywhere.co.uk/event/carry-greenham-home-film-and-talk/
LOCATION:Bristol Central Quaker Meeting House\, Champion Square\, Bristol\, BS2 9DB\, United Kingdom
CATEGORIES:Bristol,March event
END:VEVENT
END:VCALENDAR