BEGIN:VCALENDAR
VERSION:2.0
PRODID:-//Greenham Women Everywhere - ECPv6.15.16//NONSGML v1.0//EN
CALSCALE:GREGORIAN
METHOD:PUBLISH
X-WR-CALNAME:Greenham Women Everywhere
X-ORIGINAL-URL:https://greenhamwomeneverywhere.co.uk
X-WR-CALDESC:Events for Greenham Women Everywhere
REFRESH-INTERVAL;VALUE=DURATION:PT1H
X-Robots-Tag:noindex
X-PUBLISHED-TTL:PT1H
BEGIN:VTIMEZONE
TZID:Europe/London
BEGIN:DAYLIGHT
TZOFFSETFROM:+0000
TZOFFSETTO:+0100
TZNAME:BST
DTSTART:20200329T010000
END:DAYLIGHT
BEGIN:STANDARD
TZOFFSETFROM:+0100
TZOFFSETTO:+0000
TZNAME:GMT
DTSTART:20201025T010000
END:STANDARD
BEGIN:DAYLIGHT
TZOFFSETFROM:+0000
TZOFFSETTO:+0100
TZNAME:BST
DTSTART:20210328T010000
END:DAYLIGHT
BEGIN:STANDARD
TZOFFSETFROM:+0100
TZOFFSETTO:+0000
TZNAME:GMT
DTSTART:20211031T010000
END:STANDARD
BEGIN:DAYLIGHT
TZOFFSETFROM:+0000
TZOFFSETTO:+0100
TZNAME:BST
DTSTART:20220327T010000
END:DAYLIGHT
BEGIN:STANDARD
TZOFFSETFROM:+0100
TZOFFSETTO:+0000
TZNAME:GMT
DTSTART:20221030T010000
END:STANDARD
END:VTIMEZONE
BEGIN:VEVENT
DTSTART;VALUE=DATE:20210826
DTEND;VALUE=DATE:20210904
DTSTAMP:20260423T140001
CREATED:20210610T103655Z
LAST-MODIFIED:20210819T101133Z
UID:56461-1629936000-1630713599@greenhamwomeneverywhere.co.uk
SUMMARY:40th Anniversary March from Cardiff to Greenham
DESCRIPTION:The legendary Greenham Women’s Peace Camp has a big anniversary in 2021 – it will be 40 years since the first women marched from Wales to set up a peace camp outside RAF Greenham Common. \nOur anniversary celebrations will culminate in a momentous re-creation of this march\, leaving Cardiff on Thursday August 26th and arriving at Greenham on Friday September 3rd for a weekend of festivities! \nThere will also be a two day ride\, on Thursday September 2nd and Friday September 3rd. \nFind our Press Pack about the march and ride online here  \nSign up to join all or part of the march\, or to to join the two day ride\, here
URL:https://greenhamwomeneverywhere.co.uk/event/40th-anniversary-march-from-cardiff-to-greenham/
LOCATION:Various
CATEGORIES:March event
END:VEVENT
BEGIN:VEVENT
DTSTART;TZID=Europe/London:20210829T093000
DTEND;TZID=Europe/London:20210829T100000
DTSTAMP:20260423T140001
CREATED:20210812T115334Z
LAST-MODIFIED:20210813T153557Z
UID:57699-1630229400-1630231200@greenhamwomeneverywhere.co.uk
SUMMARY:Bristol Start of March
DESCRIPTION:An update on the Greenham 40th anniversary walk  \nIf you are considering walking on Sunday\, some info: \n\nIt starts at Bristol Central Quaker Meeting House\, Cabot Circus. Register from 9.30. Walk starts at 10.00.\nHere is the current route of the walk: Route  You can join at any point\, just let Vanessa know where that will be\, please. You will see that the route is via Bitton\, and if you don’t plan on walking the whole way into Bath\, this might be a good place to stop as there are buses back to Bristol\, or you could arrange to be picked up there. On a Sunday\, buses they are every hour\, though this is a bank holiday and there may be fewer.\nThis is a women-led event and men are welcome.\nIf you haven’t yet registered your interest please visit the website https://cnduk.org/events/40th-anniversary-walk-from-cardiff-to-greenham/\n\n  \nIt would be great to see you on Saturday 28 August and/or Sunday 29th
URL:https://greenhamwomeneverywhere.co.uk/event/bristol-end-of-march-evening/
LOCATION:Bristol Central Quaker Meeting House\, Champion Square\, Bristol\, BS2 9DB\, United Kingdom
CATEGORIES:Bristol,March event
END:VEVENT
BEGIN:VEVENT
DTSTART;TZID=Europe/London:20210829T190000
DTEND;TZID=Europe/London:20210829T203000
DTSTAMP:20260423T140001
CREATED:20210812T124410Z
LAST-MODIFIED:20210825T183702Z
UID:57726-1630263600-1630269000@greenhamwomeneverywhere.co.uk
SUMMARY:Bath end of walk / evening talks
DESCRIPTION:Dr Lynne Jones – What does Greenham mean today? \nDr Lynne Jones will speak about the biggest source of conflict today – climate change. How can we channel the spirit of Greenham through NVDA\, the IPCC and solidarity to save the planet?  \nDiana Francis \nInfo here: https://www.dianafrancis.info/ \n  \n 
URL:https://greenhamwomeneverywhere.co.uk/event/bath-end-of-walk-evening/
LOCATION:Bath University\, Convocation Avenue \, Claverton Down Bath\,\, Bath\, BA2 7AY\, United Kingdom
CATEGORIES:Bath,March event
END:VEVENT
END:VCALENDAR