BEGIN:VCALENDAR
VERSION:2.0
PRODID:-//Greenham Women Everywhere - ECPv6.15.16//NONSGML v1.0//EN
CALSCALE:GREGORIAN
METHOD:PUBLISH
X-ORIGINAL-URL:https://greenhamwomeneverywhere.co.uk
X-WR-CALDESC:Events for Greenham Women Everywhere
REFRESH-INTERVAL;VALUE=DURATION:PT1H
X-Robots-Tag:noindex
X-PUBLISHED-TTL:PT1H
BEGIN:VTIMEZONE
TZID:Europe/London
BEGIN:DAYLIGHT
TZOFFSETFROM:+0000
TZOFFSETTO:+0100
TZNAME:BST
DTSTART:20200329T010000
END:DAYLIGHT
BEGIN:STANDARD
TZOFFSETFROM:+0100
TZOFFSETTO:+0000
TZNAME:GMT
DTSTART:20201025T010000
END:STANDARD
BEGIN:DAYLIGHT
TZOFFSETFROM:+0000
TZOFFSETTO:+0100
TZNAME:BST
DTSTART:20210328T010000
END:DAYLIGHT
BEGIN:STANDARD
TZOFFSETFROM:+0100
TZOFFSETTO:+0000
TZNAME:GMT
DTSTART:20211031T010000
END:STANDARD
BEGIN:DAYLIGHT
TZOFFSETFROM:+0000
TZOFFSETTO:+0100
TZNAME:BST
DTSTART:20220327T010000
END:DAYLIGHT
BEGIN:STANDARD
TZOFFSETFROM:+0100
TZOFFSETTO:+0000
TZNAME:GMT
DTSTART:20221030T010000
END:STANDARD
END:VTIMEZONE
BEGIN:VEVENT
DTSTART;VALUE=DATE:20210826
DTEND;VALUE=DATE:20210904
DTSTAMP:20260423T123617
CREATED:20210610T103655Z
LAST-MODIFIED:20210819T101133Z
UID:56461-1629936000-1630713599@greenhamwomeneverywhere.co.uk
SUMMARY:40th Anniversary March from Cardiff to Greenham
DESCRIPTION:The legendary Greenham Women’s Peace Camp has a big anniversary in 2021 – it will be 40 years since the first women marched from Wales to set up a peace camp outside RAF Greenham Common. \nOur anniversary celebrations will culminate in a momentous re-creation of this march\, leaving Cardiff on Thursday August 26th and arriving at Greenham on Friday September 3rd for a weekend of festivities! \nThere will also be a two day ride\, on Thursday September 2nd and Friday September 3rd. \nFind our Press Pack about the march and ride online here  \nSign up to join all or part of the march\, or to to join the two day ride\, here
URL:https://greenhamwomeneverywhere.co.uk/event/40th-anniversary-march-from-cardiff-to-greenham/
LOCATION:Various
CATEGORIES:March event
END:VEVENT
BEGIN:VEVENT
DTSTART;TZID=Europe/London:20210830T180000
DTEND;TZID=Europe/London:20210830T200000
DTSTAMP:20260423T123617
CREATED:20210812T115645Z
LAST-MODIFIED:20210820T074854Z
UID:57680-1630346400-1630353600@greenhamwomeneverywhere.co.uk
SUMMARY:Melksham to mark 40th anniversary of legendary Greenham Common Women’s Peace Camp
DESCRIPTION:(Original March Poster from 1981) \nLocals that remember the march coming to town\, took part\, or want to learn more about it\, are being encouraged to attend the ceremony\, which will be held in King George V playing field from approximately 6pm to 8pm.   \nAt the event\, the town will be presented with a plaque and a honeysuckle plant\, which is commonly found at Greenham Common. There will also be entertainment and a talk about Greenham and its relevance today.   \nMelksham News
URL:https://greenhamwomeneverywhere.co.uk/event/melksham-end-of-walk-evening/
LOCATION:King George V Park\, Melksham\, Lowbourne\, Melksham\, SN12 7ED\, United Kingdom
CATEGORIES:March event,Melksham
END:VEVENT
END:VCALENDAR