BEGIN:VCALENDAR
VERSION:2.0
PRODID:-//Greenham Women Everywhere - ECPv6.15.16//NONSGML v1.0//EN
CALSCALE:GREGORIAN
METHOD:PUBLISH
X-WR-CALNAME:Greenham Women Everywhere
X-ORIGINAL-URL:https://greenhamwomeneverywhere.co.uk
X-WR-CALDESC:Events for Greenham Women Everywhere
REFRESH-INTERVAL;VALUE=DURATION:PT1H
X-Robots-Tag:noindex
X-PUBLISHED-TTL:PT1H
BEGIN:VTIMEZONE
TZID:Europe/London
BEGIN:DAYLIGHT
TZOFFSETFROM:+0000
TZOFFSETTO:+0100
TZNAME:BST
DTSTART:20200329T010000
END:DAYLIGHT
BEGIN:STANDARD
TZOFFSETFROM:+0100
TZOFFSETTO:+0000
TZNAME:GMT
DTSTART:20201025T010000
END:STANDARD
BEGIN:DAYLIGHT
TZOFFSETFROM:+0000
TZOFFSETTO:+0100
TZNAME:BST
DTSTART:20210328T010000
END:DAYLIGHT
BEGIN:STANDARD
TZOFFSETFROM:+0100
TZOFFSETTO:+0000
TZNAME:GMT
DTSTART:20211031T010000
END:STANDARD
BEGIN:DAYLIGHT
TZOFFSETFROM:+0000
TZOFFSETTO:+0100
TZNAME:BST
DTSTART:20220327T010000
END:DAYLIGHT
BEGIN:STANDARD
TZOFFSETFROM:+0100
TZOFFSETTO:+0000
TZNAME:GMT
DTSTART:20221030T010000
END:STANDARD
END:VTIMEZONE
BEGIN:VEVENT
DTSTART;VALUE=DATE:20210903
DTEND;VALUE=DATE:20210906
DTSTAMP:20260423T123536
CREATED:20210719T103934Z
LAST-MODIFIED:20210819T122055Z
UID:56541-1630627200-1630886399@greenhamwomeneverywhere.co.uk
SUMMARY:A weekend celebrating women's peace camps
DESCRIPTION:Join Aldermaston Women’s Peace Camp for a weekend of women’s peace camps celebrations\n\nAWPC’s September camp will be moved to Friday 3rd to Sunday 5th to join in with the Greenham Peace Camp’s 40th anniversary events\n\nJoin AWPC outside AWE Aldermaston for:\n– Guided tours of Aldermaston and Burghfield nuclear weapons bases ֎֎֎\n– Activism Craft workshops (all materials provided\, bring your inspiration!) ֎֎֎\n– Talks on nuclear weapons and resistance\n\nMore info here\nPLUS!!\nSaturday night party to celebrate 36 years of AWPC’s presence outside AWE Aldermaston\nWine\, Song\, Music – Party starts at 7pm\n\n⛺️ Bring a tent and sleeping bag\nSome refreshments provided throughout the weekend\n🚾 Accessible toilets near the Camp\nALSO!\n\nJoin AWPC and Greenham Women for ‘Weaving the Web(inars)’ – Online March of Ideas between 27 August and 2 Sept 2021 (info@acronym.org.uk)\nOrganized by Aldermaston Women’s Peace Camp\, Paices Hill RG7 4WP\, outside AWE Aldermaston\nAWPC camps are held on the second weekend of each month. For more information please phone 07852 293386
URL:https://greenhamwomeneverywhere.co.uk/event/a-weekend-celebrating-womens-peace-camps/
LOCATION:Cornwall
CATEGORIES:External event
ATTACH;FMTTYPE=image/jpeg:https://greenhamwomeneverywhere.co.uk/wp-content/uploads/2021/07/201826379_4224134560972456_9220066125611230758_n.jpeg
END:VEVENT
BEGIN:VEVENT
DTSTART;VALUE=DATE:20210903
DTEND;VALUE=DATE:20210906
DTSTAMP:20260423T123536
CREATED:20210823T173130Z
LAST-MODIFIED:20210823T174102Z
UID:58431-1630627200-1630886399@greenhamwomeneverywhere.co.uk
SUMMARY:Greenham stages Events Leaflet
DESCRIPTION:
URL:https://greenhamwomeneverywhere.co.uk/event/greenham-brochure/
LOCATION:Greenham Common Control Tower\, Bury Banks Road\, Newbury\, RG19 8BZ\, United Kingdom
CATEGORIES:Greenham Common,March event
END:VEVENT
BEGIN:VEVENT
DTSTART;VALUE=DATE:20210904
DTEND;VALUE=DATE:20210906
DTSTAMP:20260423T123536
CREATED:20210812T130055Z
LAST-MODIFIED:20210823T163151Z
UID:57721-1630713600-1630886399@greenhamwomeneverywhere.co.uk
SUMMARY:Memorial Labyrinth opening
DESCRIPTION:8.30am: Opening of the Memorial Labyrinth Bring words\, pictures or mementoes of the Greenham Women you have loved and lost and leave them on this specially created eco labyrinth on the common created by Sue Hill and Jill Raymond in remembrance of those women who cannot be with us. The Memorial Labyrinth will remain open till the end of the weekend. We ask you to respect that this space is women-only\,  thank you.   \nThis is a Greenham Women Everywhere / Scary Little Girls event
URL:https://greenhamwomeneverywhere.co.uk/event/memorial-labyrinth-opening/
LOCATION:Greenham Common Control Tower\, Bury Banks Road\, Newbury\, RG19 8BZ\, United Kingdom
CATEGORIES:March event,Saturday - Greenham
END:VEVENT
BEGIN:VEVENT
DTSTART;VALUE=DATE:20210904
DTEND;VALUE=DATE:20210906
DTSTAMP:20260423T123536
CREATED:20210812T135728Z
LAST-MODIFIED:20210812T135728Z
UID:57785-1630713600-1630886399@greenhamwomeneverywhere.co.uk
SUMMARY:Greenham Common Cafe opening times
DESCRIPTION:10am til 4pm daily
URL:https://greenhamwomeneverywhere.co.uk/event/greenham-common-cafe-opening-times/
LOCATION:Greenham Common Control Tower\, Bury Banks Road\, Newbury\, RG19 8BZ\, United Kingdom
CATEGORIES:March event,Saturday - Greenham,Sunday - Greenham
END:VEVENT
BEGIN:VEVENT
DTSTART;TZID=Europe/London:20210904T100000
DTEND;TZID=Europe/London:20210904T160000
DTSTAMP:20260423T123536
CREATED:20210812T130536Z
LAST-MODIFIED:20210812T130608Z
UID:57734-1630749600-1630771200@greenhamwomeneverywhere.co.uk
SUMMARY:Exhibition in Greeham Control Tower
DESCRIPTION:10am – 4pm: Exhibition in Greenham Control Tower \n 
URL:https://greenhamwomeneverywhere.co.uk/event/exhibition-in-greeham-control-tower/
LOCATION:Greenham Common Control Tower\, Bury Banks Road\, Newbury\, RG19 8BZ\, United Kingdom
CATEGORIES:March event,Saturday - Greenham
END:VEVENT
BEGIN:VEVENT
DTSTART;TZID=Europe/London:20210904T113000
DTEND;TZID=Europe/London:20210904T163000
DTSTAMP:20260423T123536
CREATED:20210812T133653Z
LAST-MODIFIED:20210819T113912Z
UID:57755-1630755000-1630773000@greenhamwomeneverywhere.co.uk
SUMMARY:Greenham Bus Tours
DESCRIPTION:4:30PM Bus Tour 1 – Tour of Aldermaston & Burghfield Greenham Common has been returned to nature and the military base is no more but few of us know that just down the road are the sites where nuclear weapons are made today in the UK. Join Nobel Peace Winning Greenham Woman Rebecca Johnson and members of Aldermaston Women’s Peace Camp for a tour that lifts the lid on some of Britain’s best kept nuclear secrets… Places limited\, please go to our website for times and to book – www.greenhamwomeneverywhere.co.uk 11:30AM Bus Tour 2 – Sue Say: Tales of a Teenage Tearaway At 18 Sue quit her job and ran away to Greenham where she lived for several years at the heart of the peace camp\, when she wasn’t in Holloway for her non violent direct actions on the base! On this tour of the 9 mile perimeter of the base she’ll talk you though the different gates and their personalities\, the outrageous actions she and her fellow teens undertook\, their run ins with military and police and the various sites of her arrests – which range from the terrifying to the hilarious! Places limited\, please go to our website for times and to book – www.greenhamwomeneverywhere.co.uk These are  Greenham Women Everywhere and Scary Little Girls events
URL:https://greenhamwomeneverywhere.co.uk/event/bus-tour-1-tour-of-aldermaston-burghfield/
LOCATION:Greenham Common Control Tower\, Bury Banks Road\, Newbury\, RG19 8BZ\, United Kingdom
CATEGORIES:March event,Saturday - Greenham
END:VEVENT
BEGIN:VEVENT
DTSTART;TZID=Europe/London:20210904T130000
DTEND;TZID=Europe/London:20210904T160000
DTSTAMP:20260423T123536
CREATED:20210812T130744Z
LAST-MODIFIED:20210820T114055Z
UID:57742-1630760400-1630771200@greenhamwomeneverywhere.co.uk
SUMMARY:Decorate the Peace Fence
DESCRIPTION:1pm – 4pm:  Decorate the Peace Fence\n\nFamily activity with Newbury Knitters and\nCreative Stitchers.\n\nThis is a Greenham Control Tower event\n\n 
URL:https://greenhamwomeneverywhere.co.uk/event/decorate-the-peace-fence/
LOCATION:Greenham Common Control Tower\, Bury Banks Road\, Newbury\, RG19 8BZ\, United Kingdom
CATEGORIES:March event,Saturday - Greenham
END:VEVENT
BEGIN:VEVENT
DTSTART;TZID=Europe/London:20210904T130000
DTEND;TZID=Europe/London:20210904T160000
DTSTAMP:20260423T123536
CREATED:20210812T130912Z
LAST-MODIFIED:20210820T114315Z
UID:57744-1630760400-1630771200@greenhamwomeneverywhere.co.uk
SUMMARY:Living Theatre peace camp
DESCRIPTION:Living Theatre peace camp\n\nAn improvised re-enactment creating the atmosphere\nof the Peace Camp – it’s supporters and opponents!\n\nThis is a Greenham Control Tower event
URL:https://greenhamwomeneverywhere.co.uk/event/living-theatre-peace-camp/
LOCATION:Greenham Common Control Tower\, Bury Banks Road\, Newbury\, RG19 8BZ\, United Kingdom
CATEGORIES:March event,Saturday - Greenham
END:VEVENT
BEGIN:VEVENT
DTSTART;TZID=Europe/London:20210904T130000
DTEND;TZID=Europe/London:20210904T160000
DTSTAMP:20260423T123536
CREATED:20210812T131044Z
LAST-MODIFIED:20210825T073246Z
UID:57746-1630760400-1630771200@greenhamwomeneverywhere.co.uk
SUMMARY:From Greenham to Peace Treaties
DESCRIPTION:From Greenham to Peace Treaties\n\nTalks and discussion groups with Greenham Women\nabout the impact of Greenham on international peace\ntreaties and the current situation globally. Led by\nGreenham Women who lived at camp\, took its\nmessage abroad and continue to campaign for peace\ninternationally at the highest levels .\n\nThis is a Greenham Control Tower event
URL:https://greenhamwomeneverywhere.co.uk/event/talks-and-discussions/
LOCATION:Greenham Common Control Tower\, Bury Banks Road\, Newbury\, RG19 8BZ\, United Kingdom
CATEGORIES:March event,Saturday - Greenham
END:VEVENT
END:VCALENDAR