BEGIN:VCALENDAR
VERSION:2.0
PRODID:-//Greenham Women Everywhere - ECPv6.15.16//NONSGML v1.0//EN
CALSCALE:GREGORIAN
METHOD:PUBLISH
X-ORIGINAL-URL:https://greenhamwomeneverywhere.co.uk
X-WR-CALDESC:Events for Greenham Women Everywhere
REFRESH-INTERVAL;VALUE=DURATION:PT1H
X-Robots-Tag:noindex
X-PUBLISHED-TTL:PT1H
BEGIN:VTIMEZONE
TZID:Europe/London
BEGIN:DAYLIGHT
TZOFFSETFROM:+0000
TZOFFSETTO:+0100
TZNAME:BST
DTSTART:20200329T010000
END:DAYLIGHT
BEGIN:STANDARD
TZOFFSETFROM:+0100
TZOFFSETTO:+0000
TZNAME:GMT
DTSTART:20201025T010000
END:STANDARD
BEGIN:DAYLIGHT
TZOFFSETFROM:+0000
TZOFFSETTO:+0100
TZNAME:BST
DTSTART:20210328T010000
END:DAYLIGHT
BEGIN:STANDARD
TZOFFSETFROM:+0100
TZOFFSETTO:+0000
TZNAME:GMT
DTSTART:20211031T010000
END:STANDARD
BEGIN:DAYLIGHT
TZOFFSETFROM:+0000
TZOFFSETTO:+0100
TZNAME:BST
DTSTART:20220327T010000
END:DAYLIGHT
BEGIN:STANDARD
TZOFFSETFROM:+0100
TZOFFSETTO:+0000
TZNAME:GMT
DTSTART:20221030T010000
END:STANDARD
END:VTIMEZONE
BEGIN:VEVENT
DTSTART;VALUE=DATE:20210903
DTEND;VALUE=DATE:20210906
DTSTAMP:20260423T123652
CREATED:20210719T103934Z
LAST-MODIFIED:20210819T122055Z
UID:56541-1630627200-1630886399@greenhamwomeneverywhere.co.uk
SUMMARY:A weekend celebrating women's peace camps
DESCRIPTION:Join Aldermaston Women’s Peace Camp for a weekend of women’s peace camps celebrations\n\nAWPC’s September camp will be moved to Friday 3rd to Sunday 5th to join in with the Greenham Peace Camp’s 40th anniversary events\n\nJoin AWPC outside AWE Aldermaston for:\n– Guided tours of Aldermaston and Burghfield nuclear weapons bases ֎֎֎\n– Activism Craft workshops (all materials provided\, bring your inspiration!) ֎֎֎\n– Talks on nuclear weapons and resistance\n\nMore info here\nPLUS!!\nSaturday night party to celebrate 36 years of AWPC’s presence outside AWE Aldermaston\nWine\, Song\, Music – Party starts at 7pm\n\n⛺️ Bring a tent and sleeping bag\nSome refreshments provided throughout the weekend\n🚾 Accessible toilets near the Camp\nALSO!\n\nJoin AWPC and Greenham Women for ‘Weaving the Web(inars)’ – Online March of Ideas between 27 August and 2 Sept 2021 (info@acronym.org.uk)\nOrganized by Aldermaston Women’s Peace Camp\, Paices Hill RG7 4WP\, outside AWE Aldermaston\nAWPC camps are held on the second weekend of each month. For more information please phone 07852 293386
URL:https://greenhamwomeneverywhere.co.uk/event/a-weekend-celebrating-womens-peace-camps/
LOCATION:Cornwall
CATEGORIES:External event
ATTACH;FMTTYPE=image/jpeg:https://greenhamwomeneverywhere.co.uk/wp-content/uploads/2021/07/201826379_4224134560972456_9220066125611230758_n.jpeg
END:VEVENT
BEGIN:VEVENT
DTSTART;VALUE=DATE:20210903
DTEND;VALUE=DATE:20210906
DTSTAMP:20260423T123652
CREATED:20210823T173130Z
LAST-MODIFIED:20210823T174102Z
UID:58431-1630627200-1630886399@greenhamwomeneverywhere.co.uk
SUMMARY:Greenham stages Events Leaflet
DESCRIPTION:
URL:https://greenhamwomeneverywhere.co.uk/event/greenham-brochure/
LOCATION:Greenham Common Control Tower\, Bury Banks Road\, Newbury\, RG19 8BZ\, United Kingdom
CATEGORIES:Greenham Common,March event
END:VEVENT
BEGIN:VEVENT
DTSTART;VALUE=DATE:20210904
DTEND;VALUE=DATE:20210906
DTSTAMP:20260423T123652
CREATED:20210812T130055Z
LAST-MODIFIED:20210823T163151Z
UID:57721-1630713600-1630886399@greenhamwomeneverywhere.co.uk
SUMMARY:Memorial Labyrinth opening
DESCRIPTION:8.30am: Opening of the Memorial Labyrinth Bring words\, pictures or mementoes of the Greenham Women you have loved and lost and leave them on this specially created eco labyrinth on the common created by Sue Hill and Jill Raymond in remembrance of those women who cannot be with us. The Memorial Labyrinth will remain open till the end of the weekend. We ask you to respect that this space is women-only\,  thank you.   \nThis is a Greenham Women Everywhere / Scary Little Girls event
URL:https://greenhamwomeneverywhere.co.uk/event/memorial-labyrinth-opening/
LOCATION:Greenham Common Control Tower\, Bury Banks Road\, Newbury\, RG19 8BZ\, United Kingdom
CATEGORIES:March event,Saturday - Greenham
END:VEVENT
BEGIN:VEVENT
DTSTART;VALUE=DATE:20210904
DTEND;VALUE=DATE:20210906
DTSTAMP:20260423T123652
CREATED:20210812T135728Z
LAST-MODIFIED:20210812T135728Z
UID:57785-1630713600-1630886399@greenhamwomeneverywhere.co.uk
SUMMARY:Greenham Common Cafe opening times
DESCRIPTION:10am til 4pm daily
URL:https://greenhamwomeneverywhere.co.uk/event/greenham-common-cafe-opening-times/
LOCATION:Greenham Common Control Tower\, Bury Banks Road\, Newbury\, RG19 8BZ\, United Kingdom
CATEGORIES:March event,Saturday - Greenham,Sunday - Greenham
END:VEVENT
BEGIN:VEVENT
DTSTART;TZID=Europe/London:20210905T100000
DTEND;TZID=Europe/London:20210905T160000
DTSTAMP:20260423T123652
CREATED:20210812T134738Z
LAST-MODIFIED:20210812T153432Z
UID:57766-1630836000-1630857600@greenhamwomeneverywhere.co.uk
SUMMARY:Exhibition in Control Tower
DESCRIPTION:10am – 4pm: Exhibition in Greenham Control Tower \nThis is a Greenham Control Tower event \n 
URL:https://greenhamwomeneverywhere.co.uk/event/exhibition-in-control-tower/
LOCATION:Greenham Common Control Tower\, Bury Banks Road\, Newbury\, RG19 8BZ\, United Kingdom
CATEGORIES:March event,Sunday - Greenham
END:VEVENT
BEGIN:VEVENT
DTSTART;TZID=Europe/London:20210905T110000
DTEND;TZID=Europe/London:20210905T170000
DTSTAMP:20260423T123652
CREATED:20210812T134544Z
LAST-MODIFIED:20210812T153410Z
UID:57764-1630839600-1630861200@greenhamwomeneverywhere.co.uk
SUMMARY:The March of the Common People!
DESCRIPTION:Leaving at 11am: The March of the Common People! \nCarrying art that has been made for this weekend and singing the songs of the Greenham Songbook\, we invite you to join us in a celebratory walk across the common which the Greenham Women and the people of Newbury won back for us all! \nLeaving from the original site of Yellow Gate and going to the Control Tower with banners and music. \nThis is a Greenham Women Everywhere and Scary Little Girls event \n 
URL:https://greenhamwomeneverywhere.co.uk/event/the-march-of-the-common-people/
LOCATION:Greenham Common Control Tower\, Bury Banks Road\, Newbury\, RG19 8BZ\, United Kingdom
CATEGORIES:March event,Sunday - Greenham
END:VEVENT
BEGIN:VEVENT
DTSTART;TZID=Europe/London:20210905T120000
DTEND;TZID=Europe/London:20210905T123000
DTSTAMP:20260423T123652
CREATED:20210812T134852Z
LAST-MODIFIED:20210812T153354Z
UID:57770-1630843200-1630845000@greenhamwomeneverywhere.co.uk
SUMMARY:Meet the Marchers
DESCRIPTION:12 noon: Meet the marchers at the Control Tower \nThis is a Greenham Control Tower event
URL:https://greenhamwomeneverywhere.co.uk/event/meet-the-marchers/
LOCATION:Greenham Common Control Tower\, Bury Banks Road\, Newbury\, RG19 8BZ\, United Kingdom
CATEGORIES:March event,Sunday - Greenham
END:VEVENT
BEGIN:VEVENT
DTSTART;TZID=Europe/London:20210905T120000
DTEND;TZID=Europe/London:20210905T160000
DTSTAMP:20260423T123652
CREATED:20210812T134941Z
LAST-MODIFIED:20210824T112835Z
UID:57772-1630843200-1630857600@greenhamwomeneverywhere.co.uk
SUMMARY:Decorate the Peace Fence
DESCRIPTION:Decorate the Peace Fence Family activity with Newbury Knitters and Creative Stitchers. This is a Greenham Control Tower event \nPlease book your free spot here on Eventbrite – it really helps us report to our funders!
URL:https://greenhamwomeneverywhere.co.uk/event/decorate-the-peace-fence-2/
LOCATION:Greenham Common Control Tower\, Bury Banks Road\, Newbury\, RG19 8BZ\, United Kingdom
CATEGORIES:March event,Sunday - Greenham
END:VEVENT
BEGIN:VEVENT
DTSTART;TZID=Europe/London:20210905T120000
DTEND;TZID=Europe/London:20210905T160000
DTSTAMP:20260423T123652
CREATED:20210812T135201Z
LAST-MODIFIED:20210824T112427Z
UID:57778-1630843200-1630857600@greenhamwomeneverywhere.co.uk
SUMMARY:Living Theatre Peace Camp
DESCRIPTION:Living Theatre peace camp An improvised re-enactment creating the atmosphere of the Peace Camp – it’s supporters and opponents! This is a Greenham Control Tower event   \nPlease book your free spot here on Eventbrite – it really helps us report to our funders!
URL:https://greenhamwomeneverywhere.co.uk/event/living-theatre-peace-camp-2/
LOCATION:Cornwall
CATEGORIES:March event,Sunday - Greenham
END:VEVENT
BEGIN:VEVENT
DTSTART;TZID=Europe/London:20210905T130000
DTEND;TZID=Europe/London:20210905T150000
DTSTAMP:20260423T123652
CREATED:20210812T135416Z
LAST-MODIFIED:20210824T111946Z
UID:57780-1630846800-1630854000@greenhamwomeneverywhere.co.uk
SUMMARY:Gateway to Greenham
DESCRIPTION:1pm – 3pm: Gateway to Greenham An afternoon of interactive family activities inspired by the Greenham Peace Camp Gates and hosted by Scary Little Girls artists and Greenham Women who made the camp their home. Explore the common around the Control Tower to find all the sites! Don’t miss dropping in at Red Gate for a singalong! Joining Orange Gate for cake and bender making! Having your say at the discussion circle at Yellow Gate! Partying at Bloo Gate! Stencils and spirituality at Green Gate! Finding out what’s going on today at the Aldermaston Gate! This is a Greenham Women Everywhere and Scary Little Girls event \nPlease book your free spot here on Eventbrite – it really helps us report to our funders!
URL:https://greenhamwomeneverywhere.co.uk/event/gateway-to-greenham/
LOCATION:Greenham Common Control Tower\, Bury Banks Road\, Newbury\, RG19 8BZ\, United Kingdom
CATEGORIES:March event,Sunday - Greenham
END:VEVENT
BEGIN:VEVENT
DTSTART;TZID=Europe/London:20210905T163000
DTEND;TZID=Europe/London:20210905T173000
DTSTAMP:20260423T123652
CREATED:20210812T135532Z
LAST-MODIFIED:20210824T100546Z
UID:57782-1630859400-1630863000@greenhamwomeneverywhere.co.uk
SUMMARY:Cabaret on the Common
DESCRIPTION:4pm – 5.30pm: Cabaret on the Common To finish things off\, and reaching all those who can’t be there in person via the world wide web\, a cabaret with music\, poetry\, readings\, games and high-jinks from Greenham Women artists and the next generations of feminist creatives they’ve inspired. This is a Greenham Women Everywhere and Scary Little Girls event \nPlease book your free spot here on Eventbrite – it really helps us report to our funders! 
URL:https://greenhamwomeneverywhere.co.uk/event/cabaret-on-the-common/
LOCATION:Greenham Common Control Tower\, Bury Banks Road\, Newbury\, RG19 8BZ\, United Kingdom
CATEGORIES:March event,Sunday - Greenham
END:VEVENT
END:VCALENDAR