BEGIN:VCALENDAR
VERSION:2.0
PRODID:-//Greenham Women Everywhere - ECPv6.15.16//NONSGML v1.0//EN
CALSCALE:GREGORIAN
METHOD:PUBLISH
X-ORIGINAL-URL:https://greenhamwomeneverywhere.co.uk
X-WR-CALDESC:Events for Greenham Women Everywhere
REFRESH-INTERVAL;VALUE=DURATION:PT1H
X-Robots-Tag:noindex
X-PUBLISHED-TTL:PT1H
BEGIN:VTIMEZONE
TZID:Europe/London
BEGIN:DAYLIGHT
TZOFFSETFROM:+0000
TZOFFSETTO:+0100
TZNAME:BST
DTSTART:20200329T010000
END:DAYLIGHT
BEGIN:STANDARD
TZOFFSETFROM:+0100
TZOFFSETTO:+0000
TZNAME:GMT
DTSTART:20201025T010000
END:STANDARD
BEGIN:DAYLIGHT
TZOFFSETFROM:+0000
TZOFFSETTO:+0100
TZNAME:BST
DTSTART:20210328T010000
END:DAYLIGHT
BEGIN:STANDARD
TZOFFSETFROM:+0100
TZOFFSETTO:+0000
TZNAME:GMT
DTSTART:20211031T010000
END:STANDARD
BEGIN:DAYLIGHT
TZOFFSETFROM:+0000
TZOFFSETTO:+0100
TZNAME:BST
DTSTART:20220327T010000
END:DAYLIGHT
BEGIN:STANDARD
TZOFFSETFROM:+0100
TZOFFSETTO:+0000
TZNAME:GMT
DTSTART:20221030T010000
END:STANDARD
END:VTIMEZONE
BEGIN:VEVENT
DTSTART;TZID=Europe/London:20210930T193000
DTEND;TZID=Europe/London:20211001T193000
DTSTAMP:20260423T110910
CREATED:20210811T122407Z
LAST-MODIFIED:20220505T140330Z
UID:57625-1633030200-1633116600@greenhamwomeneverywhere.co.uk
SUMMARY:Bloody Wimmin
DESCRIPTION:Script in hand performance of play by Lucy Kirkwood\, Booking via Eventbrite\n\n \n\n@ Greenham Control Tower
URL:https://greenhamwomeneverywhere.co.uk/event/bloody-wimmin/
LOCATION:Greenham Common Control Tower\, Bury Banks Road\, Newbury\, RG19 8BZ\, United Kingdom
CATEGORIES:External event
END:VEVENT
END:VCALENDAR