BEGIN:VCALENDAR
VERSION:2.0
PRODID:-//Greenham Women Everywhere - ECPv6.15.16//NONSGML v1.0//EN
CALSCALE:GREGORIAN
METHOD:PUBLISH
X-ORIGINAL-URL:https://greenhamwomeneverywhere.co.uk
X-WR-CALDESC:Events for Greenham Women Everywhere
REFRESH-INTERVAL;VALUE=DURATION:PT1H
X-Robots-Tag:noindex
X-PUBLISHED-TTL:PT1H
BEGIN:VTIMEZONE
TZID:Europe/London
BEGIN:DAYLIGHT
TZOFFSETFROM:+0000
TZOFFSETTO:+0100
TZNAME:BST
DTSTART:20230326T010000
END:DAYLIGHT
BEGIN:STANDARD
TZOFFSETFROM:+0100
TZOFFSETTO:+0000
TZNAME:GMT
DTSTART:20231029T010000
END:STANDARD
BEGIN:DAYLIGHT
TZOFFSETFROM:+0000
TZOFFSETTO:+0100
TZNAME:BST
DTSTART:20240331T010000
END:DAYLIGHT
BEGIN:STANDARD
TZOFFSETFROM:+0100
TZOFFSETTO:+0000
TZNAME:GMT
DTSTART:20241027T010000
END:STANDARD
BEGIN:DAYLIGHT
TZOFFSETFROM:+0000
TZOFFSETTO:+0100
TZNAME:BST
DTSTART:20250330T010000
END:DAYLIGHT
BEGIN:STANDARD
TZOFFSETFROM:+0100
TZOFFSETTO:+0000
TZNAME:GMT
DTSTART:20251026T010000
END:STANDARD
END:VTIMEZONE
BEGIN:VEVENT
DTSTART;VALUE=DATE:20240713
DTEND;VALUE=DATE:20240726
DTSTAMP:20260422T022315
CREATED:20240514T153512Z
LAST-MODIFIED:20240514T153512Z
UID:63950-1720828800-1721951999@greenhamwomeneverywhere.co.uk
SUMMARY:Lakenheath Walk and Camp
DESCRIPTION:Passionate about peace and nuclear disarmament? Want to connect with likeminded individuals? Join Lakenheath Alliance for Peace (LAP) this July for their walk and peace camp in Lakenheath. \nLAP will start its major summer event in the centre of Norwich at the City Hall on Saturday 13th July\, beginning with a walk/bike over 3 days to USAF Lakenheath and then the peace camp on Monday 15th July. The camp will continue until 25th July. \nThere will be inside accommodation as well as camping nearby and a continuous presence at the base throughout. Please contact LAP and let them know if you can head along and support in any way possible on the walk and/or camp. \nSign up here.
URL:https://greenhamwomeneverywhere.co.uk/event/lakenheath-walk-and-camp/
LOCATION:Norwich City Hall\, St Peters St\, Norwich\, NR2 1NH\, United Kingdom
CATEGORIES:External event
ATTACH;FMTTYPE=image/jpeg:https://greenhamwomeneverywhere.co.uk/wp-content/uploads/2024/04/GKuVwp-XsAAUT5R.jpg
END:VEVENT
END:VCALENDAR