BEGIN:VCALENDAR
VERSION:2.0
PRODID:-//Greenham Women Everywhere - ECPv6.15.16//NONSGML v1.0//EN
CALSCALE:GREGORIAN
METHOD:PUBLISH
X-WR-CALNAME:Greenham Women Everywhere
X-ORIGINAL-URL:https://greenhamwomeneverywhere.co.uk
X-WR-CALDESC:Events for Greenham Women Everywhere
REFRESH-INTERVAL;VALUE=DURATION:PT1H
X-Robots-Tag:noindex
X-PUBLISHED-TTL:PT1H
BEGIN:VTIMEZONE
TZID:UTC
BEGIN:STANDARD
TZOFFSETFROM:+0000
TZOFFSETTO:+0000
TZNAME:UTC
DTSTART:20210101T000000
END:STANDARD
END:VTIMEZONE
BEGIN:VEVENT
DTSTART;VALUE=DATE:20220611
DTEND;VALUE=DATE:20220612
DTSTAMP:20260420T213739
CREATED:20220506T085006Z
LAST-MODIFIED:20220506T085006Z
UID:63377-1654905600-1654991999@greenhamwomeneverywhere.co.uk
SUMMARY:Walk\, Talk\, and Protest at Aldermaston Women’s Peace Camp
DESCRIPTION:Join us to walk\, talk\, protest\, and camp at Aldermaston Women’s Peace Camp!\n\n\nWalking from Greenham Common to AWE Aldermaston every couple of months for the rest of this year: 11 June\, 13 August\, 8 October\n\n\nMore details TBC\, keep up to date via our Twitter\, Instagram and Facebook.
URL:https://greenhamwomeneverywhere.co.uk/event/walk-talk-and-protest-at-aldermaston-womens-peace-camp/
LOCATION:Aldermaston Women’s Peace Camp\, Aldermaston Women’s Peace Camp\, Paices Hill\, Aldermaston\, RG7 4WP\, United Kingdom
CATEGORIES:External event
ATTACH;FMTTYPE=image/png:https://greenhamwomeneverywhere.co.uk/wp-content/uploads/2022/05/Walk-Talk-and-Protest-at-Aldermaston-Womens-Peace-Camp.png
END:VEVENT
END:VCALENDAR