BEGIN:VCALENDAR
VERSION:2.0
PRODID:-//Greenham Women Everywhere - ECPv6.15.16//NONSGML v1.0//EN
CALSCALE:GREGORIAN
METHOD:PUBLISH
X-WR-CALNAME:Greenham Women Everywhere
X-ORIGINAL-URL:https://greenhamwomeneverywhere.co.uk
X-WR-CALDESC:Events for Greenham Women Everywhere
REFRESH-INTERVAL;VALUE=DURATION:PT1H
X-Robots-Tag:noindex
X-PUBLISHED-TTL:PT1H
BEGIN:VTIMEZONE
TZID:UTC
BEGIN:STANDARD
TZOFFSETFROM:+0000
TZOFFSETTO:+0000
TZNAME:UTC
DTSTART:20210101T000000
END:STANDARD
END:VTIMEZONE
BEGIN:VEVENT
DTSTART;TZID=UTC:20221126T130000
DTEND;TZID=UTC:20221126T150000
DTSTAMP:20260420T151406
CREATED:20221115T094856Z
LAST-MODIFIED:20221122T171604Z
UID:63456-1669467600-1669474800@greenhamwomeneverywhere.co.uk
SUMMARY:From Greenham to Faslane and beyond
DESCRIPTION:As we approach the 40th anniversary of Embrace the Base\, the iconic action that brought Greenham Common Women’s Peace Camp to international notoriety\, Glasgow Women’s Library are excited to host social archivers Greenham Women Everywhere and activists from Faslane Peace Camp in a day of banner making\, information sharing\, memory recording and song! \nThe session will begin with a chat about the impact of Greenham and Embrace the Base told through images\, animations and music\, then members of Faslane will share their current campaigns and invite us to create banners with messages to take to the Peace Camp. \nEnjoy chats\, craftivism and cake as we create a space for the change we want to see in the world!
URL:https://greenhamwomeneverywhere.co.uk/event/from-greenham-to-faslane-craftivism-and-memory-share-session/
LOCATION:Glasgow Womens Library\, 23 Landressy St\, Bridgeton\, Glasgow\, G40 1BP\, United Kingdom
CATEGORIES:External event
ATTACH;FMTTYPE=image/jpeg:https://greenhamwomeneverywhere.co.uk/wp-content/uploads/2022/11/Greenham-Women-Bridget-Boudewijn©-d.web-res-scaled.jpg
END:VEVENT
END:VCALENDAR